Workbook

Sheet Form Responses 1
A1: Timestamp | B1: Score | C1: Nama | D1: NIM | E1: Jurusan | F1: Kelas (Contoh 3 AEC-1) | G1: Saya cenderung memilih makanan cepat saji atau praktis (mie instan, kalengan) saat sedang sibuk. | H1: Saya lebih sering makan di luar (restoran, kafe, atau warteg) daripada memasak di rumah/kos. | I1: Saya lebih sering memilih makanan murah (mie instan, warteg, jajanan kaki lima) saat kondisi keuangan terbatas. | J1: Saat keuangan terbatas, saya lebih memilih makanan murah dengan porsi kecil dibanding makanan mahal dengan porsi banyak. | K1: Saya tetap berusaha mengonsumsi makanan bergizi meskipun keuangan sedang terbatas. | L1: Kepraktisan dan kecepatan penyajian menjadi faktor utama saya dalam memilih makanan. | M1: Lokasi tempat makan yang dekat dan mudah dijangkau memengaruhi pilihan saya saat uang terbatas. | N1: Saya mempertimbangkan rasa makanan saat keuangan terbatas. | O1: Harga makanan menjadi faktor utama dalam menentukan pilihan saat keuangan terbatas. | P1: Variasi menu makanan menjadi salah satu faktor utama lainnya dalam menentukan pilihan saat keuangan terbatas. | Q1: Walaupun dalam keuangan terbatas, saya tetap lebih mengutamakan nilai gizi dibanding faktor lainnya | R1: Ketersediaan promo atau diskon sangat memengaruhi saya dalam memilih makanan. | S1: Saya sering memanfaatkan promo atau diskon dari aplikasi makanan online untuk menghemat pengeluaran. | T1: Saat keuangan terbatas, saya jarang berbelanja bahan makanan dalam jumlah besar, saya lebih suka membeli sesuai kebutuhan. | U1: Saya lebih sering membawa bekal dari rumah/kos untuk menghemat pengeluaran makan. | V1: Saya sering membatasi makan di luar (restoran/kafe) untuk menghemat pengeluaran. | W1: Saya terkadang berbagi atau patungan membeli makanan dengan teman saat keuangan terbatas. | X1: Pola makan saya saat ini membuat saya sering merasa kembung atau pencernaan tidak lancar. | Y1: Saya merasa kurang bertenaga dan terkadang sulit fokus setelah makan siang. | Z1: Pola konsumsi saat uang terbatas membuat saya merasa lebih cepat lapar. | AA1: Kondisi keuangan terbatas membuat saya sering melewatkan jam makan. | AB1: Pola makan hemat yang saya jalani berpengaruh pada energi dan konsentrasi belajar saya.
A2: 45922.84 | B2: 0 | C2: azfa agung | D2: 222422027 | E2: DE | F2: 4 DEB 2 | G2: 1 | H2: 5 | I2: 4 | J2: 2 | K2: 4 | L2: 5 | M2: 3 | N2: 4 | O2: 4 | P2: 4 | Q2: 5 | R2: 4 | S2: 4 | T2: 3 | U2: 2 | V2: 3 | W2: 3 | X2: 1 | Y2: 1 | Z2: 3 | AA2: 3 | AB2: 5
A3: 45928.514 | B3: 0 | C3: Ken Ken Kusumah Ramadhan | D3: 223431011 | E3: FE | F3: 3 FEC | G3: 1 | H3: 2 | I3: 2 | J3: 1 | K3: 5 | L3: 3 | M3: 2 | N3: 4 | O3: 2 | P3: 5 | Q3: 4 | R3: 5 | S3: 4 | T3: 5 | U3: 3 | V3: 5 | W3: 1 | X3: 3 | Y3: 1 | Z3: 1 | AA3: 1 | AB3: 1
A4: 45929.417 | B4: 0 | C4: Doni | D4: 223443031 | E4: AE | F4: 3 AEC-2 | G4: 1 | H4: 2 | I4: 3 | J4: 4 | K4: 4 | L4: 4 | M4: 3 | N4: 3 | O4: 4 | P4: 3 | Q4: 4 | R4: 5 | S4: 4 | T4: 5 | U4: 3 | V4: 4 | W4: 2 | X4: 2 | Y4: 2 | Z4: 2 | AA4: 3 | AB4: 4
A5: 45922.622 | B5: 0 | C5: Meilani | D5: 223442038 | E5: AE | F5: 3 AEA-2 | G5: 2 | H5: 5 | I5: 5 | J5: 5 | K5: 5 | L5: 3 | M5: 5 | N5: 4 | O5: 5 | P5: 1 | Q5: 5 | R5: 5 | S5: 5 | T5: 5 | U5: 4 | V5: 5 | W5: 1 | X5: 4 | Y5: 2 | Z5: 3 | AA5: 4 | AB5: 3
A6: 45923.853 | B6: 0 | C6: Muhammad Fathir Wibisana | D6: 225331060 | E6: FE | F6: 1FEA3 | G6: 2 | H6: 2 | I6: 3 | J6: 5 | K6: 5 | L6: 3 | M6: 4 | N6: 2 | O6: 5 | P6: 3 | Q6: 5 | R6: 5 | S6: 1 | T6: 5 | U6: 3 | V6: 4 | W6: 4 | X6: 1 | Y6: 2 | Z6: 4 | AA6: 5 | AB6: 3
A7: 45924.412 | B7: 0 | C7: Daffa Khairul Ammar | D7: 223443007 | E7: AE | F7: 3 AEC-1 | G7: 2 | H7: 4 | I7: 3 | J7: 3 | K7: 4 | L7: 4 | M7: 4 | N7: 4 | O7: 4 | P7: 4 | Q7: 4 | R7: 4 | S7: 3 | T7: 3 | U7: 2 | V7: 3 | W7: 4 | X7: 4 | Y7: 4 | Z7: 3 | AA7: 3 | AB7: 3
A8: 45925.371 | B8: 0 | C8: Saqila Fauziah | D8: 223411028 | E8: ME | F8: 3 MED-1 | G8: 2 | H8: 3 | I8: 2 | J8: 3 | K8: 3 | L8: 3 | M8: 4 | N8: 4 | O8: 4 | P8: 4 | Q8: 3 | R8: 2 | S8: 2 | T8: 4 | U8: 4 | V8: 5 | W8: 2 | X8: 2 | Y8: 3 | Z8: 2 | AA8: 1 | AB8: 2
A9: 45926.341 | B9: 0 | C9: Wildan Khafiz H | D9: 223331039 | E9: FE | F9: 2 FE'B | G9: 2 | H9: 1 | I9: 2 | J9: 2 | K9: 5 | L9: 1 | M9: 2 | N9: 2 | O9: 5 | P9: 2 | Q9: 5 | R9: 5 | S9: 5 | T9: 5 | U9: 5 | V9: 5 | W9: 1 | X9: 1 | Y9: 1 | Z9: 1 | AA9: 1 | AB9: 1
A10: 45926.402 | B10: 0 | C10: Muhamad Rafly Ghifari | D10: 223331031 | E10: FE | F10: 3FEB | G10: 2 | H10: 5 | I10: 4 | J10: 3 | K10: 3 | L10: 5 | M10: 5 | N10: 3 | O10: 3 | P10: 4 | Q10: 2 | R10: 3 | S10: 3 | T10: 5 | U10: 2 | V10: 5 | W10: 2 | X10: 4 | Y10: 3 | Z10: 3 | AA10: 2 | AB10: 2
A11: 45924.678 | B11: 0 | C11: Siti nurohima | D11: 223443070 | E11: AE | F11: 3AEC3 | G11: 3 | H11: 3 | I11: 5 | J11: 3 | K11: 5 | L11: 4 | M11: 5 | N11: 5 | O11: 4 | P11: 4 | Q11: 5 | R11: 5 | S11: 5 | T11: 5 | U11: 5 | V11: 5 | W11: 5 | X11: 5 | Y11: 5 | Z11: 5 | AA11: 5 | AB11: 5
A12: 45926.452 | B12: 0 | C12: Hudan ilmi Wiguna | D12: 223331029 | E12: FE | F12: 3FEB | G12: 3 | H12: 3 | I12: 3 | J12: 4 | K12: 5 | L12: 3 | M12: 4 | N12: 3 | O12: 5 | P12: 4 | Q12: 4 | R12: 5 | S12: 5 | T12: 4 | U12: 4 | V12: 2 | W12: 3 | X12: 3 | Y12: 3 | Z12: 3 | AA12: 3 | AB12: 5
A13: 45926.468 | B13: 0 | C13: Hanifah Nur Habibah | D13: 223412014 | E13: ME | F13: 3 MEF-1 | G13: 3 | H13: 3 | I13: 3 | J13: 3 | K13: 3 | L13: 2 | M13: 2 | N13: 3 | O13: 3 | P13: 4 | Q13: 5 | R13: 5 | S13: 5 | T13: 4 | U13: 4 | V13: 3 | W13: 1 | X13: 5 | Y13: 4 | Z13: 1 | AA13: 1 | AB13: 5
... A41: 45929.488 | B41: 0 | C41: Bimo Indracahya | D41: 223443006 | E41: AE | F41: 3 AEC-1 | G41: 5 | H41: 5 | I41: 5 | J41: 5 | K41: 1 | L41: 5 | M41: 5 | N41: 1 | O41: 4 | P41: 2 | Q41: 1 | R41: 5 | S41: 5 | T41: 5 | U41: 1 | V41: 4 | W41: 1 | X41: 1 | Y41: 4 | Z41: 5 | AA41: 5 | AB41: 1
A42: 45929.501 | B42: 0 | C42: Raul | D42: - | E42: Lainya | F42: Information system | G42: 5 | H42: 5 | I42: 5 | J42: 5 | K42: 5 | L42: 4 | M42: 5 | N42: 2 | O42: 5 | P42: 5 | Q42: 3 | R42: 5 | S42: 5 | T42: 5 | U42: 1 | V42: 5 | W42: 5 | X42: 1 | Y42: 3 | Z42: 5 | AA42: 5 | AB42: 1
A43: 45929.517 | B43: 0 | C43: abdurrahman gaza rinoldy | D43: - | E43: Lainya | F43: - | G43: 5 | H43: 3 | I43: 5 | J43: 5 | K43: 1 | L43: 5 | M43: 5 | N43: 5 | O43: 5 | P43: 5 | Q43: 5 | R43: 5 | S43: 5 | T43: 5 | U43: 5 | V43: 5 | W43: 5 | X43: 5 | Y43: 5 | Z43: 5 | AA43: 5 | AB43: 5

Sheet cleanup precentage and frequenc
A1: frquensi absolute
A2: poin jawaban | B2: question 1 | C2: question 2 | D2: question 3 | E2: question 4 | F2: question 5 | G2: question 6 | H2: question 7 | I2: question 8 | J2: question 9 | K2: question 10 | L2: question 11 | M2: question 12 | N2: question 13 | O2: question 14 | P2: question 15 | Q2: question 16 | R2: question 17 | S2: question 18 | T2: question 19 | U2: question 20 | V2: question 21 | W2: question 22
A3: 1 | B3: =COUNTIF('Form Responses 1'!G:G, 1) -> 3 | C3: =COUNTIF('Form Responses 1'!H:H, 1) -> 7 | D3: =COUNTIF('Form Responses 1'!I:I, 1) -> 1 | E3: =COUNTIF('Form Responses 1'!J:J, 1) -> 1 | F3: =COUNTIF('Form Responses 1'!K:K, 1) -> 6 | G3: =COUNTIF('Form Responses 1'!L:L, 1) -> 2 | H3: =COUNTIF('Form Responses 1'!M:M, 1) -> 0 | I3: =COUNTIF('Form Responses 1'!N:N, 1) -> 4 | J3: =COUNTIF('Form Responses 1'!O:O, 1) -> 0 | K3: =COUNTIF('Form Responses 1'!P:P, 1) -> 3 | L3: =COUNTIF('Form Responses 1'!Q:Q, 1) -> 4 | M3: =COUNTIF('Form Responses 1'!R:R, 1) -> 0 | N3: =COUNTIF('Form Responses 1'!S:S, 1) -> 1 | O3: =COUNTIF('Form Responses 1'!T:T, 1) -> 3 | P3: =COUNTIF('Form Responses 1'!U:U, 1) -> 5 | Q3: =COUNTIF('Form Responses 1'!V:V, 1) -> 1 | R3: =COUNTIF('Form Responses 1'!W:W, 1) -> 11 | S3: =COUNTIF('Form Responses 1'!X:X, 1) -> 13 | T3: =COUNTIF('Form Responses 1'!Y:Y, 1) -> 11 | U3: =COUNTIF('Form Responses 1'!Z:Z, 1) -> 9 | V3: =COUNTIF('Form Responses 1'!AA:AA, 1) -> 14 | W3: =COUNTIF('Form Responses 1'!AB:AB, 1) -> 5
A4: 2 | B4: =COUNTIF('Form Responses 1'!G:G, 2) -> 6 | C4: =COUNTIF('Form Responses 1'!H:H, 2) -> 6 | D4: =COUNTIF('Form Responses 1'!I:I, 2) -> 3 | E4: =COUNTIF('Form Responses 1'!J:J, 2) -> 4 | F4: =COUNTIF('Form Responses 1'!K:K, 2) -> 2 | G4: =COUNTIF('Form Responses 1'!L:L, 2) -> 6 | H4: =COUNTIF('Form Responses 1'!M:M, 2) -> 5 | I4: =COUNTIF('Form Responses 1'!N:N, 2) -> 6 | J4: =COUNTIF('Form Responses 1'!O:O, 2) -> 2 | K4: =COUNTIF('Form Responses 1'!P:P, 2) -> 6 | L4: =COUNTIF('Form Responses 1'!Q:Q, 2) -> 4 | M4: =COUNTIF('Form Responses 1'!R:R, 2) -> 3 | N4: =COUNTIF('Form Responses 1'!S:S, 2) -> 3 | O4: =COUNTIF('Form Responses 1'!T:T, 2) -> 1 | P4: =COUNTIF('Form Responses 1'!U:U, 2) -> 7 | Q4: =COUNTIF('Form Responses 1'!V:V, 2) -> 5 | R4: =COUNTIF('Form Responses 1'!W:W, 2) -> 4 | S4: =COUNTIF('Form Responses 1'!X:X, 2) -> 6 | T4: =COUNTIF('Form Responses 1'!Y:Y, 2) -> 5 | U4: =COUNTIF('Form Responses 1'!Z:Z, 2) -> 4 | V4: =COUNTIF('Form Responses 1'!AA:AA, 2) -> 3 | W4: =COUNTIF('Form Responses 1'!AB:AB, 2) -> 8
A5: 3 | B5: =COUNTIF('Form Responses 1'!G:G, 3) -> 6 | C5: =COUNTIF('Form Responses 1'!H:H, 3) -> 12 | D5: =COUNTIF('Form Responses 1'!I:I, 3) -> 8 | E5: =COUNTIF('Form Responses 1'!J:J, 3) -> 15 | F5: =COUNTIF('Form Responses 1'!K:K, 3) -> 8 | G5: =COUNTIF('Form Responses 1'!L:L, 3) -> 10 | H5: =COUNTIF('Form Responses 1'!M:M, 3) -> 3 | I5: =COUNTIF('Form Responses 1'!N:N, 3) -> 11 | J5: =COUNTIF('Form Responses 1'!O:O, 3) -> 4 | K5: =COUNTIF('Form Responses 1'!P:P, 3) -> 11 | L5: =COUNTIF('Form Responses 1'!Q:Q, 3) -> 12 | M5: =COUNTIF('Form Responses 1'!R:R, 3) -> 3 | N5: =COUNTIF('Form Responses 1'!S:S, 3) -> 4 | O5: =COUNTIF('Form Responses 1'!T:T, 3) -> 6 | P5: =COUNTIF('Form Responses 1'!U:U, 3) -> 10 | Q5: =COUNTIF('Form Responses 1'!V:V, 3) -> 6 | R5: =COUNTIF('Form Responses 1'!W:W, 3) -> 9 | S5: =COUNTIF('Form Responses 1'!X:X, 3) -> 10 | T5: =COUNTIF('Form Responses 1'!Y:Y, 3) -> 11 | U5: =COUNTIF('Form Responses 1'!Z:Z, 3) -> 12 | V5: =COUNTIF('Form Responses 1'!AA:AA, 3) -> 8 | W5: =COUNTIF('Form Responses 1'!AB:AB, 3) -> 8
A6: 4 | B6: =COUNTIF('Form Responses 1'!G:G, 4) -> 5 | C6: =COUNTIF('Form Responses 1'!H:H, 4) -> 5 | D6: =COUNTIF('Form Responses 1'!I:I, 4) -> 3 | E6: =COUNTIF('Form Responses 1'!J:J, 4) -> 3 | F6: =COUNTIF('Form Responses 1'!K:K, 4) -> 9 | G6: =COUNTIF('Form Responses 1'!L:L, 4) -> 6 | H6: =COUNTIF('Form Responses 1'!M:M, 4) -> 7 | I6: =COUNTIF('Form Responses 1'!N:N, 4) -> 11 | J6: =COUNTIF('Form Responses 1'!O:O, 4) -> 12 | K6: =COUNTIF('Form Responses 1'!P:P, 4) -> 9 | L6: =COUNTIF('Form Responses 1'!Q:Q, 4) -> 5 | M6: =COUNTIF('Form Responses 1'!R:R, 4) -> 8 | N6: =COUNTIF('Form Responses 1'!S:S, 4) -> 10 | O6: =COUNTIF('Form Responses 1'!T:T, 4) -> 7 | P6: =COUNTIF('Form Responses 1'!U:U, 4) -> 8 | Q6: =COUNTIF('Form Responses 1'!V:V, 4) -> 8 | R6: =COUNTIF('Form Responses 1'!W:W, 4) -> 9 | S6: =COUNTIF('Form Responses 1'!X:X, 4) -> 3 | T6: =COUNTIF('Form Responses 1'!Y:Y, 4) -> 7 | U6: =COUNTIF('Form Responses 1'!Z:Z, 4) -> 7 | V6: =COUNTIF('Form Responses 1'!AA:AA, 4) -> 5 | W6: =COUNTIF('Form Responses 1'!AB:AB, 4) -> 6
A7: 5 | B7: =COUNTIF('Form Responses 1'!G:G, 5) -> 22 | C7: =COUNTIF('Form Responses 1'!H:H, 5) -> 12 | D7: =COUNTIF('Form Responses 1'!I:I, 5) -> 27 | E7: =COUNTIF('Form Responses 1'!J:J, 5) -> 19 | F7: =COUNTIF('Form Responses 1'!K:K, 5) -> 17 | G7: =COUNTIF('Form Responses 1'!L:L, 5) -> 18 | H7: =COUNTIF('Form Responses 1'!M:M, 5) -> 27 | I7: =COUNTIF('Form Responses 1'!N:N, 5) -> 10 | J7: =COUNTIF('Form Responses 1'!O:O, 5) -> 24 | K7: =COUNTIF('Form Responses 1'!P:P, 5) -> 13 | L7: =COUNTIF('Form Responses 1'!Q:Q, 5) -> 17 | M7: =COUNTIF('Form Responses 1'!R:R, 5) -> 28 | N7: =COUNTIF('Form Responses 1'!S:S, 5) -> 24 | O7: =COUNTIF('Form Responses 1'!T:T, 5) -> 25 | P7: =COUNTIF('Form Responses 1'!U:U, 5) -> 12 | Q7: =COUNTIF('Form Responses 1'!V:V, 5) -> 22 | R7: =COUNTIF('Form Responses 1'!W:W, 5) -> 9 | S7: =COUNTIF('Form Responses 1'!X:X, 5) -> 10 | T7: =COUNTIF('Form Responses 1'!Y:Y, 5) -> 8 | U7: =COUNTIF('Form Responses 1'!Z:Z, 5) -> 10 | V7: =COUNTIF('Form Responses 1'!AA:AA, 5) -> 12 | W7: =COUNTIF('Form Responses 1'!AB:AB, 5) -> 15
B8: =SUM(B3:B7) -> 42 | C8: =SUM(C3:C7) -> 42 | D8: =SUM(D3:D7) -> 42 | E8: =SUM(E3:E7) -> 42 | F8: =SUM(F3:F7) -> 42 | G8: =SUM(G3:G7) -> 42 | H8: =SUM(H3:H7) -> 42 | I8: =SUM(I3:I7) -> 42 | ... W8: =SUM(W3:W7) -> 42
A9: frequensi relative
A10: poin jawaban | B10: question 1 | C10: question 2 | D10: question 3 | E10: question 4 | F10: question 5 | G10: question 6 | H10: question 7 | I10: question 8 | J10: question 9 | K10: question 10 | L10: question 11 | M10: question 12 | N10: question 13 | O10: question 14 | P10: question 15 | Q10: question 16 | R10: question 17 | S10: question 18 | T10: question 19 | U10: question 20 | V10: question 21 | W10: question 22
A11: 1 | B11: =B3/B8 -> 0.071428571 | C11: =C3/C8 -> 0.16666667 | D11: =D3/D8 -> 0.023809524 | E11: =E3/E8 -> 0.023809524 | F11: =F3/F8 -> 0.14285714 | G11: =G3/G8 -> 0.047619048 | H11: =H3/H8 -> 0 | I11: =I3/I8 -> 0.095238095 | ... W11: =W3/W8 -> 0.11904762
A12: 2 | B12: =B4/B8 -> 0.14285714 | C12: =C4/C8 -> 0.14285714 | D12: =D4/D8 -> 0.071428571 | E12: =E4/E8 -> 0.095238095 | F12: =F4/F8 -> 0.047619048 | G12: =G4/G8 -> 0.14285714 | H12: =H4/H8 -> 0.11904762 | I12: =I4/I8 -> 0.14285714 | ... W12: =W4/W8 -> 0.19047619
A13: 3 | B13: =B5/B8 -> 0.14285714 | C13: =C5/C8 -> 0.28571429 | D13: =D5/D8 -> 0.19047619 | E13: =E5/E8 -> 0.35714286 | F13: =F5/F8 -> 0.19047619 | G13: =G5/G8 -> 0.23809524 | H13: =H5/H8 -> 0.071428571 | I13: =I5/I8 -> 0.26190476 | ... W13: =W5/W8 -> 0.19047619
A14: 4 | B14: =B6/B8 -> 0.11904762 | C14: =C6/C8 -> 0.11904762 | D14: =D6/D8 -> 0.071428571 | E14: =E6/E8 -> 0.071428571 | F14: =F6/F8 -> 0.21428571 | G14: =G6/G8 -> 0.14285714 | H14: =H6/H8 -> 0.16666667 | I14: =I6/I8 -> 0.26190476 | ... W14: =W6/W8 -> 0.14285714
A15: 5 | B15: =B7/B8 -> 0.52380952 | C15: =C7/C8 -> 0.28571429 | D15: =D7/D8 -> 0.64285714 | E15: =E7/E8 -> 0.45238095 | F15: =F7/F8 -> 0.4047619 | G15: =G7/G8 -> 0.42857143 | H15: =H7/H8 -> 0.64285714 | I15: =I7/I8 -> 0.23809524 | ... W15: =W7/W8 -> 0.35714286
B16: =SUM(B11:B15)*100 & "%" -> 100% | C16: =SUM(C11:C15)*100 & "%" -> 100% | D16: =SUM(D11:D15)*100 & "%" -> 100% | E16: =SUM(E11:E15)*100 & "%" -> 100% | F16: =SUM(F11:F15)*100 & "%" -> 100% | G16: =SUM(G11:G15)*100 & "%" -> 100% | H16: =SUM(H11:H15)*100 & "%" -> 100% | I16: =SUM(I11:I15)*100 & "%" -> 100% | ... W16: =SUM(W11:W15)*100 & "%" -> 100%
A17: mean
B18: question 1 | C18: question 2 | D18: question 3 | E18: question 4 | F18: question 5 | G18: question 6 | H18: question 7 | I18: question 8 | J18: question 9 | K18: question 10 | L18: question 11 | M18: question 12 | N18: question 13 | O18: question 14 | P18: question 15 | Q18: question 16 | R18: question 17 | S18: question 18 | T18: question 19 | U18: question 20 | V18: question 21 | W18: question 22
B19: =(1*B3 + 2*B4 + 3*B5 + 4*B6 + 5*B7)/B8 -> 3.8809524 | C19: =(1*C3 + 2*C4 + 3*C5 + 4*C6 + 5*C7)/C8 -> 3.2142857 | D19: =(1*D3 + 2*D4 + 3*D5 + 4*D6 + 5*D7)/D8 -> 4.2380952 | E19: =(1*E3 + 2*E4 + 3*E5 + 4*E6 + 5*E7)/E8 -> 3.8333333 | F19: =(1*F3 + 2*F4 + 3*F5 + 4*F6 + 5*F7)/F8 -> 3.6904762 | G19: =(1*G3 + 2*G4 + 3*G5 + 4*G6 + 5*G7)/G8 -> 3.7619048 | H19: =(1*H3 + 2*H4 + 3*H5 + 4*H6 + 5*H7)/H8 -> 4.3333333 | I19: =(1*I3 + 2*I4 + 3*I5 + 4*I6 + 5*I7)/I8 -> 3.4047619 | ... W19: =(1*W3 + 2*W4 + 3*W5 + 4*W6 + 5*W7)/W8 -> 3.4285714
A25: Median | B25: question 1 | C25: question 2 | D25: question 3 | E25: question 4 | F25: question 5 | G25: question 6 | H25: question 7 | I25: question 8 | J25: question 9 | K25: question 10 | L25: question 11 | M25: question 12 | N25: question 13 | O25: question 14 | P25: question 15 | Q25: question 16 | R25: question 17 | S25: question 18 | T25: question 19 | U25: question 20 | V25: question 21 | W25: question 22
B26: =MEDIAN(Form_Responses[Saya cenderung memilih makanan cepat saji atau praktis (mie instan, kalengan) saat sedang sibuk.]) -> 5 | C26: =MEDIAN(Form_Responses[Saya lebih sering makan di luar (restoran, kafe, atau warteg) daripada memasak di rumah/kos.]) -> 3 | D26: =MEDIAN(Form_Responses[Saya lebih sering memilih makanan murah (mie instan, warteg, jajanan kaki lima) saat kondisi keuangan terbatas.]) -> 5 | E26: =MEDIAN(Form_Responses[Saat keuangan terbatas, saya lebih memilih makanan murah dengan porsi kecil dibanding makanan mahal dengan porsi banyak.]) -> 4 | F26: =MEDIAN(Form_Responses[Saya tetap berusaha mengonsumsi makanan bergizi meskipun keuangan sedang terbatas.]) -> 4 | G26: =MEDIAN(Form_Responses[Kepraktisan dan kecepatan penyajian menjadi faktor utama saya dalam memilih makanan.]) -> 4 | H26: =MEDIAN(Form_Responses[Lokasi tempat makan yang dekat dan mudah dijangkau memengaruhi pilihan saya saat uang terbatas.]) -> 5 | I26: =MEDIAN(Form_Responses[Saya mempertimbangkan rasa makanan saat keuangan terbatas.]) -> 3.5 | J26: =MEDIAN(Form_Responses[Harga makanan menjadi faktor utama dalam menentukan pilihan saat keuangan terbatas.]) -> 5 | K26: =MEDIAN(Form_Responses[Variasi menu makanan menjadi salah satu faktor utama lainnya dalam menentukan pilihan saat keuangan terbatas.]) -> 4 | L26: =MEDIAN(Form_Responses[Walaupun dalam keuangan terbatas, saya tetap lebih mengutamakan nilai gizi dibanding faktor lainnya]) -> 4 | M26: =MEDIAN(Form_Responses[Ketersediaan promo atau diskon sangat memengaruhi saya dalam memilih makanan.]) -> 5 | N26: =MEDIAN(Form_Responses[Saya sering memanfaatkan promo atau diskon dari aplikasi makanan online untuk menghemat pengeluaran.]) -> 5 | O26: =MEDIAN(Form_Responses[Saat keuangan terbatas, saya jarang berbelanja bahan makanan dalam jumlah besar, saya lebih suka membeli sesuai kebutuhan.]) -> 5 | P26: =MEDIAN(Form_Responses[Saya lebih sering membawa bekal dari rumah/kos untuk menghemat pengeluaran makan.]) -> 3 | Q26: =MEDIAN(Form_Responses[Saya sering membatasi makan di luar (restoran/kafe) untuk menghemat pengeluaran.]) -> 5 | R26: =MEDIAN(Form_Responses[Saya terkadang berbagi atau patungan membeli makanan dengan teman saat keuangan terbatas.]) -> 3 | S26: =MEDIAN(Form_Responses[Pola makan saya saat ini membuat saya sering merasa kembung atau pencernaan tidak lancar.]) -> 3 | T26: =MEDIAN(Form_Responses[Saya merasa kurang bertenaga dan terkadang sulit fokus setelah makan siang.]) -> 3 | U26: =MEDIAN(Form_Responses[Pola konsumsi saat uang terbatas membuat saya merasa lebih cepat lapar.]) -> 3 | V26: =MEDIAN(Form_Responses[Kondisi keuangan terbatas membuat saya sering melewatkan jam makan.]) -> 3 | W26: =MEDIAN(Form_Responses[Pola makan hemat yang saya jalani berpengaruh pada energi dan konsentrasi belajar saya.]) -> 3.5
A28: Modus | B28: question 1 | C28: question 2 | D28: question 3 | E28: question 4 | F28: question 5 | G28: question 6 | H28: question 7 | I28: question 8 | J28: question 9 | K28: question 10 | L28: question 11 | M28: question 12 | N28: question 13 | O28: question 14 | P28: question 15 | Q28: question 16 | R28: question 17 | S28: question 18 | T28: question 19 | U28: question 20 | V28: question 21 | W28: question 22
B29: =_xlfn.MODE.SNGL(Form_Responses[Saya cenderung memilih makanan cepat saji atau praktis (mie instan, kalengan) saat sedang sibuk.]) -> 5 | C29: =_xlfn.MODE.SNGL(Form_Responses[Saya lebih sering makan di luar (restoran, kafe, atau warteg) daripada memasak di rumah/kos.]) -> 5 | D29: =_xlfn.MODE.SNGL(Form_Responses[Saya lebih sering memilih makanan murah (mie instan, warteg, jajanan kaki lima) saat kondisi keuangan terbatas.]) -> 5 | E29: =_xlfn.MODE.SNGL(Form_Responses[Saat keuangan terbatas, saya lebih memilih makanan murah dengan porsi kecil dibanding makanan mahal dengan porsi banyak.]) -> 5 | F29: =_xlfn.MODE.SNGL(Form_Responses[Saya tetap berusaha mengonsumsi makanan bergizi meskipun keuangan sedang terbatas.]) -> 5 | G29: =_xlfn.MODE.SNGL(Form_Responses[Kepraktisan dan kecepatan penyajian menjadi faktor utama saya dalam memilih makanan.]) -> 5 | H29: =_xlfn.MODE.SNGL(Form_Responses[Lokasi tempat makan yang dekat dan mudah dijangkau memengaruhi pilihan saya saat uang terbatas.]) -> 5 | I29: =_xlfn.MODE.SNGL(Form_Responses[Saya mempertimbangkan rasa makanan saat keuangan terbatas.]) -> 4 | J29: =_xlfn.MODE.SNGL(Form_Responses[Harga makanan menjadi faktor utama dalam menentukan pilihan saat keuangan terbatas.]) -> 5 | K29: =_xlfn.MODE.SNGL(Form_Responses[Variasi menu makanan menjadi salah satu faktor utama lainnya dalam menentukan pilihan saat keuangan terbatas.]) -> 5 | L29: =_xlfn.MODE.SNGL(Form_Responses[Walaupun dalam keuangan terbatas, saya tetap lebih mengutamakan nilai gizi dibanding faktor lainnya]) -> 5 | M29: =_xlfn.MODE.SNGL(Form_Responses[Ketersediaan promo atau diskon sangat memengaruhi saya dalam memilih makanan.]) -> 5 | N29: =_xlfn.MODE.SNGL(Form_Responses[Saya sering memanfaatkan promo atau diskon dari aplikasi makanan online untuk menghemat pengeluaran.]) -> 5 | O29: =_xlfn.MODE.SNGL(Form_Responses[Saat keuangan terbatas, saya jarang berbelanja bahan makanan dalam jumlah besar, saya lebih suka membeli sesuai kebutuhan.]) -> 5 | P29: =_xlfn.MODE.SNGL(Form_Responses[Saya lebih sering membawa bekal dari rumah/kos untuk menghemat pengeluaran makan.]) -> 5 | Q29: =_xlfn.MODE.SNGL(Form_Responses[Saya sering membatasi makan di luar (restoran/kafe) untuk menghemat pengeluaran.]) -> 5 | R29: =_xlfn.MODE.SNGL(Form_Responses[Saya terkadang berbagi atau patungan membeli makanan dengan teman saat keuangan terbatas.]) -> 1 | S29: =_xlfn.MODE.SNGL(Form_Responses[Pola makan saya saat ini membuat saya sering merasa kembung atau pencernaan tidak lancar.]) -> 1 | T29: =_xlfn.MODE.SNGL(Form_Responses[Saya merasa kurang bertenaga dan terkadang sulit fokus setelah makan siang.]) -> 1 | U29: =_xlfn.MODE.SNGL(Form_Responses[Pola konsumsi saat uang terbatas membuat saya merasa lebih cepat lapar.]) -> 3 | V29: =_xlfn.MODE.SNGL(Form_Responses[Kondisi keuangan terbatas membuat saya sering melewatkan jam makan.]) -> 1 | W29: =_xlfn.MODE.SNGL(Form_Responses[Kondisi keuangan terbatas membuat saya sering melewatkan jam makan.]) -> 1
