Workbook

Sheet Sheet1
A1: Rekapitulasi Hasil Kuesioner
C2: Tata Kelola dan Kelembagaan 25% | I2: Pengumpulan Dana 20% | N2: Penyaluran dan Dampak 30%) | Q2: =6.25/5 -> 1.25 | S2: Keuangan dan Efisiensi (15%) | X2: Sosial dan Lingkungan (10%) | AC2: Indeks akhir
A3: No | B3: Nama Lembaga | C3: I1 | D3: I2 | E3: I3 | F3: I4 | G3: Jumlah | H3: Rata-rata | I3: I5 | J3: I6 | K3: I7 | L3: Jumlah | M3: Rata-rata | N3: I8 | O3: I9 | P3: I10 | Q3: Jumlah | R3: Rata-rata | S3: I11 | T3: I12 | U3: I13 | V3: Jumlah | W3: Rata-rata | X3: I14 | Y3: I15 | Z3: I16 | AA3: Jumlah | AB3: Rata-rata
A4: 1 | B4: LAZ Rabbani | C4: 4 | D4: 4 | E4: 3 | F4: 3 | G4: =SUM(C4:F4) -> 14 | H4: =G4/20 -> 0.7 | I4: 4 | J4: 5 | K4: 4 | L4: =SUM(I4:K4) -> 13 | M4: =L4/15 -> 0.86666667 | N4: 4 | O4: 4 | P4: 4 | Q4: =SUM(N4:P4) -> 12 | R4: =Q4/15 -> 0.8 | S4: 3 | T4: 3 | U4: 3 | V4: =SUM(S4:U4) -> 9 | W4: =V4/15 -> 0.6 | X4: 4 | Y4: 3 | Z4: 2 | AA4: =SUM(X4:Z4) -> 9 | AB4: =AA4/15 -> 0.6 | AC4: =(H4+M4+R4+W4+AB4)/5 -> 0.71333333
A5: 2 | B5: BAZNAS | C5: 5 | D5: 5 | E5: 4 | F5: 4 | G5: =SUM(C5:F5) -> 18 | H5: =G5/20 -> 0.9 | I5: 4 | J5: 5 | K5: 3 | L5: =SUM(I5:K5) -> 12 | M5: =L5/15 -> 0.8 | N5: 3 | O5: 3 | P5: 3 | Q5: =SUM(N5:P5) -> 9 | R5: =Q5/15 -> 0.6 | S5: 3 | T5: 4 | U5: 3 | V5: =SUM(S5:U5) -> 10 | W5: =V5/15 -> 0.66666667 | X5: 3 | Y5: 3 | Z5: 4 | AA5: =SUM(X5:Z5) -> 10 | AB5: =AA5/15 -> 0.66666667 | AC5: =(H5+M5+R5+W5+AB5)/5 -> 0.72666667
A6: 3 | B6: LAZISKU KB PII | C6: 3 | D6: 4 | E6: 3 | F6: 3 | G6: =SUM(C6:F6) -> 13 | H6: =G6/20 -> 0.65 | I6: 3 | J6: 1 | K6: 3 | L6: =SUM(I6:K6) -> 7 | M6: =L6/15 -> 0.46666667 | N6: 4 | O6: 3 | P6: 3 | Q6: =SUM(N6:P6) -> 10 | R6: =Q6/15 -> 0.66666667 | S6: 3 | T6: 3 | U6: 3 | V6: =SUM(S6:U6) -> 9 | W6: =V6/15 -> 0.6 | X6: 3 | Y6: 4 | Z6: 4 | AA6: =SUM(X6:Z6) -> 11 | AB6: =AA6/15 -> 0.73333333 | AC6: =(H6+M6+R6+W6+AB6)/5 -> 0.62333333
A7: 4 | B7: LAZISMU ASAHAN | C7: 4 | D7: 5 | E7: 3 | F7: 3 | G7: =SUM(C7:F7) -> 15 | H7: =G7/20 -> 0.75 | I7: 4 | J7: 5 | K7: 4 | L7: =SUM(I7:K7) -> 13 | M7: =L7/15 -> 0.86666667 | N7: 3 | O7: 4 | P7: 4 | Q7: =SUM(N7:P7) -> 11 | R7: =Q7/15 -> 0.73333333 | S7: 4 | T7: 2 | U7: 3 | V7: =SUM(S7:U7) -> 9 | W7: =V7/15 -> 0.6 | X7: 3 | Y7: 4 | Z7: 2 | AA7: =SUM(X7:Z7) -> 9 | AB7: =AA7/15 -> 0.6 | AC7: =(H7+M7+R7+W7+AB7)/5 -> 0.71
A8: 5 | B8: LAZ SOLOPEDULI | C8: 4 | D8: 4 | E8: 4 | F8: 4 | G8: =SUM(C8:F8) -> 16 | H8: =G8/20 -> 0.8 | I8: 3 | J8: 5 | K8: 4 | L8: =SUM(I8:K8) -> 12 | M8: =L8/15 -> 0.8 | N8: 5 | O8: 3 | P8: 3 | Q8: =SUM(N8:P8) -> 11 | R8: =Q8/15 -> 0.73333333 | S8: 3 | T8: 3 | U8: 4 | V8: =SUM(S8:U8) -> 10 | W8: =V8/15 -> 0.66666667 | X8: 4 | Y8: 3 | Z8: 5 | AA8: =SUM(X8:Z8) -> 12 | AB8: =AA8/15 -> 0.8 | AC8: =(H8+M8+R8+W8+AB8)/5 -> 0.76
A9: 6 | B9: LAZISMU BINJAI | C9: 4 | D9: 4 | E9: 3 | F9: 3 | G9: =SUM(C9:F9) -> 14 | H9: =G9/20 -> 0.7 | I9: 3 | J9: 5 | K9: 3 | L9: =SUM(I9:K9) -> 11 | M9: =L9/15 -> 0.73333333 | N9: 3 | O9: 4 | P9: 4 | Q9: =SUM(N9:P9) -> 11 | R9: =Q9/15 -> 0.73333333 | S9: 3 | T9: 3 | U9: 3 | V9: =SUM(S9:U9) -> 9 | W9: =V9/15 -> 0.6 | X9: 3 | Y9: 4 | Z9: 1 | AA9: =SUM(X9:Z9) -> 8 | AB9: =AA9/15 -> 0.53333333 | AC9: =(H9+M9+R9+W9+AB9)/5 -> 0.66
A10: 7 | B10: LAZISKU SUMUT | C10: 5 | D10: 5 | E10: 5 | F10: 1 | G10: =SUM(C10:F10) -> 16 | H10: =G10/20 -> 0.8 | I10: 1 | J10: 1 | K10: 1 | L10: =SUM(I10:K10) -> 3 | M10: =L10/15 -> 0.2 | N10: 5 | O10: 4 | P10: 4 | Q10: =SUM(N10:P10) -> 13 | R10: =Q10/15 -> 0.86666667 | S10: 4 | T10: 4 | U10: 4 | V10: =SUM(S10:U10) -> 12 | W10: =V10/15 -> 0.8 | X10: 2 | Y10: 2 | Z10: 2 | AA10: =SUM(X10:Z10) -> 6 | AB10: =AA10/15 -> 0.4 | AC10: =(H10+M10+R10+W10+AB10)/5 -> 0.61333333
A11: 8 | B11: LAZ AZKA CENTER | C11: 4 | D11: 4 | E11: 3 | F11: 3 | G11: =SUM(C11:F11) -> 14 | H11: =G11/20 -> 0.7 | I11: 4 | J11: 3 | K11: 4 | L11: =SUM(I11:K11) -> 11 | M11: =L11/15 -> 0.73333333 | N11: 3 | O11: 4 | P11: 4 | Q11: =SUM(N11:P11) -> 11 | R11: =Q11/15 -> 0.73333333 | S11: 3 | T11: 4 | U11: 3 | V11: =SUM(S11:U11) -> 10 | W11: =V11/15 -> 0.66666667 | X11: 4 | Y11: 3 | Z11: 4 | AA11: =SUM(X11:Z11) -> 11 | AB11: =AA11/15 -> 0.73333333 | AC11: =(H11+M11+R11+W11+AB11)/5 -> 0.71333333
A12: 9 | B12: LAZNAS MPAQ BIAS | C12: 3 | D12: 4 | E12: 3 | F12: 4 | G12: =SUM(C12:F12) -> 14 | H12: =G12/20 -> 0.7 | I12: 3 | J12: 3 | K12: 4 | L12: =SUM(I12:K12) -> 10 | M12: =L12/15 -> 0.66666667 | N12: 4 | O12: 3 | P12: 3 | Q12: =SUM(N12:P12) -> 10 | R12: =Q12/15 -> 0.66666667 | S12: 3 | T12: 4 | U12: 4 | V12: =SUM(S12:U12) -> 11 | W12: =V12/15 -> 0.73333333 | X12: 3 | Y12: 4 | Z12: 3 | AA12: =SUM(X12:Z12) -> 10 | AB12: =AA12/15 -> 0.66666667 | AC12: =(H12+M12+R12+W12+AB12)/5 -> 0.68666667
A13: 10 | B13: LAZNAS YATIM MANDIRI | C13: 4 | D13: 4 | E13: 3 | F13: 4 | G13: =SUM(C13:F13) -> 15 | H13: =G13/20 -> 0.75 | I13: 4 | J13: 3 | K13: 4 | L13: =SUM(I13:K13) -> 11 | M13: =L13/15 -> 0.73333333 | N13: 4 | O13: 3 | P13: 4 | Q13: =SUM(N13:P13) -> 11 | R13: =Q13/15 -> 0.73333333 | S13: 4 | T13: 3 | U13: 3 | V13: =SUM(S13:U13) -> 10 | W13: =V13/15 -> 0.66666667 | X13: 4 | Y13: 4 | Z13: 3 | AA13: =SUM(X13:Z13) -> 11 | AB13: =AA13/15 -> 0.73333333 | AC13: =(H13+M13+R13+W13+AB13)/5 -> 0.72333333
C19: Tata Kelola dan Kelembagaan 25% | I19: Pengumpulan Dana 20% | L19: 1.33 | N19: Penyaluran dan Dampak 30%) | Q19: 2 | S19: Keuangan dan Efisiensi (15%) | V19: 1 | X19: Sosial dan Lingkungan (10%) | AA19: 0.66 | AC19: Indeks akhir
A20: No | B20: Nama Lembaga | C20: I1 | D20: I2 | E20: I3 | F20: I4 | G20: Jumlah | H20: Rata-rata | I20: I5 | J20: I6 | K20: I7 | L20: Jumlah | M20: Rata-rata | N20: I8 | O20: I9 | P20: I10 | Q20: Jumlah | R20: Rata-rata | S20: I11 | T20: I12 | U20: I13 | V20: Jumlah | W20: Rata-rata | X20: I14 | Y20: I15 | Z20: I16 | AA20: Jumlah | AB20: Rata-rata
A21: 1 | B21: LAZ Rabbani | C21: =4*1.25 -> 5 | D21: =4*1.25 -> 5 | E21: =3*1.25 -> 3.75 | F21: =3*1.25 -> 3.75 | G21: =SUM(C21:F21) -> 17.5 | H21: =G21/25 -> 0.7 | I21: =4*L19 -> 5.32 | J21: =5*$L$19 -> 6.65 | K21: =4*$L$19 -> 5.32 | L21: =SUM(I21:K21) -> 17.29 | M21: =L21/20 -> 0.8645 | N21: =4*$Q$19 -> 8 | O21: =4*$Q$19 -> 8 | P21: =4*$Q$19 -> 8 | Q21: =SUM(N21:P21) -> 24 | R21: =Q21/30 -> 0.8 | S21: 3 | T21: 3 | U21: 3 | V21: =SUM(S21:U21) -> 9 | W21: =V21/15 -> 0.6 | X21: =4*$AA$19 -> 2.64 | Y21: =3*$AA$19 -> 1.98 | Z21: =2*$AA$19 -> 1.32 | AA21: =SUM(X21:Z21) -> 5.94 | AB21: =AA21/10 -> 0.594 | AC21: =(H21+M21+R21+W21+AB21)/5 -> 0.7117
A22: 2 | B22: BAZNAS | C22: =5*1.25 -> 6.25 | D22: =5*1.25 -> 6.25 | E22: =4*1.25 -> 5 | F22: =4*1.25 -> 5 | G22: =SUM(C22:F22) -> 22.5 | H22: =G22/25 -> 0.9 | I22: =4*$L$19 -> 5.32 | J22: =5*$L$19 -> 6.65 | K22: =3*$L$19 -> 3.99 | L22: =SUM(I22:K22) -> 15.96 | M22: =L22/20 -> 0.798 | N22: =3*$Q$19 -> 6 | O22: =3*$Q$19 -> 6 | P22: =3*$Q$19 -> 6 | Q22: =SUM(N22:P22) -> 18 | R22: =Q22/30 -> 0.6 | S22: 3 | T22: 4 | U22: 3 | V22: =SUM(S22:U22) -> 10 | W22: =V22/15 -> 0.66666667 | X22: =3*$AA$19 -> 1.98 | Y22: =3*$AA$19 -> 1.98 | Z22: =4*$AA$19 -> 2.64 | AA22: =SUM(X22:Z22) -> 6.6 | AB22: =AA22/10 -> 0.66 | AC22: =(H22+M22+R22+W22+AB22)/5 -> 0.72493333
A23: 3 | B23: LAZISKU KB PII | C23: =3*1.25 -> 3.75 | D23: =4*1.25 -> 5 | E23: =3*1.25 -> 3.75 | F23: =3*1.25 -> 3.75 | G23: =SUM(C23:F23) -> 16.25 | H23: =G23/25 -> 0.65 | I23: =3*$L$19 -> 3.99 | J23: =1*$L$19 -> 1.33 | K23: =3*$L$19 -> 3.99 | L23: =SUM(I23:K23) -> 9.31 | M23: =L23/20 -> 0.4655 | N23: =4*$Q$19 -> 8 | O23: =3*$Q$19 -> 6 | P23: =3*$Q$19 -> 6 | Q23: =SUM(N23:P23) -> 20 | R23: =Q23/30 -> 0.66666667 | S23: 3 | T23: 3 | U23: 3 | V23: =SUM(S23:U23) -> 9 | W23: =V23/15 -> 0.6 | X23: =3*$AA$19 -> 1.98 | Y23: =4*$AA$19 -> 2.64 | Z23: =4*$AA$19 -> 2.64 | AA23: =SUM(X23:Z23) -> 7.26 | AB23: =AA23/10 -> 0.726 | AC23: =(H23+M23+R23+W23+AB23)/5 -> 0.62163333
A24: 4 | B24: LAZISMU ASAHAN | C24: =4*1.25 -> 5 | D24: =5*1.25 -> 6.25 | E24: =3*1.25 -> 3.75 | F24: =3*1.25 -> 3.75 | G24: =SUM(C24:F24) -> 18.75 | H24: =G24/25 -> 0.75 | I24: =4*$L$19 -> 5.32 | J24: =5*$L$19 -> 6.65 | K24: =4*$L$19 -> 5.32 | L24: =SUM(I24:K24) -> 17.29 | M24: =L24/20 -> 0.8645 | N24: =3*$Q$19 -> 6 | O24: =4*$Q$19 -> 8 | P24: =4*$Q$19 -> 8 | Q24: =SUM(N24:P24) -> 22 | R24: =Q24/30 -> 0.73333333 | S24: 4 | T24: 2 | U24: 3 | V24: =SUM(S24:U24) -> 9 | W24: =V24/15 -> 0.6 | X24: =3*$AA$19 -> 1.98 | Y24: =4*$AA$19 -> 2.64 | Z24: =2*$AA$19 -> 1.32 | AA24: =SUM(X24:Z24) -> 5.94 | AB24: =AA24/10 -> 0.594 | AC24: =(H24+M24+R24+W24+AB24)/5 -> 0.70836667
A25: 5 | B25: LAZ SOLOPEDULI | C25: =4*1.25 -> 5 | D25: =4*1.25 -> 5 | E25: =4*1.25 -> 5 | F25: =4*1.25 -> 5 | G25: =SUM(C25:F25) -> 20 | H25: =G25/25 -> 0.8 | I25: =3*$L$19 -> 3.99 | J25: =5*$L$19 -> 6.65 | K25: =4*$L$19 -> 5.32 | L25: =SUM(I25:K25) -> 15.96 | M25: =L25/20 -> 0.798 | N25: =5*$Q$19 -> 10 | O25: =3*$Q$19 -> 6 | P25: =3*$Q$19 -> 6 | Q25: =SUM(N25:P25) -> 22 | R25: =Q25/30 -> 0.73333333 | S25: 3 | T25: 3 | U25: 4 | V25: =SUM(S25:U25) -> 10 | W25: =V25/15 -> 0.66666667 | X25: =4*$AA$19 -> 2.64 | Y25: =3*$AA$19 -> 1.98 | Z25: =5*AA19 -> 3.3 | AA25: =SUM(X25:Z25) -> 7.92 | AB25: =AA25/10 -> 0.792 | AC25: =(H25+M25+R25+W25+AB25)/5 -> 0.758
A26: 6 | B26: LAZISMU BINJAI | C26: =4*1.25 -> 5 | D26: =4*1.25 -> 5 | E26: =3*1.25 -> 3.75 | F26: =3*1.25 -> 3.75 | G26: =SUM(C26:F26) -> 17.5 | H26: =G26/25 -> 0.7 | I26: =3*$L$19 -> 3.99 | J26: =5*$L$19 -> 6.65 | K26: =3*$L$19 -> 3.99 | L26: =SUM(I26:K26) -> 14.63 | M26: =L26/20 -> 0.7315 | N26: =3*$Q$19 -> 6 | O26: =4*$Q$19 -> 8 | P26: =4*$Q$19 -> 8 | Q26: =SUM(N26:P26) -> 22 | R26: =Q26/30 -> 0.73333333 | S26: 3 | T26: 3 | U26: 3 | V26: =SUM(S26:U26) -> 9 | W26: =V26/15 -> 0.6 | X26: =3*$AA$19 -> 1.98 | Y26: =4*$AA$19 -> 2.64 | Z26: =1*AA19 -> 0.66 | AA26: =SUM(X26:Z26) -> 5.28 | AB26: =AA26/10 -> 0.528 | AC26: =(H26+M26+R26+W26+AB26)/5 -> 0.65856667
A27: 7 | B27: LAZISKU SUMUT | C27: =5*1.25 -> 6.25 | D27: =5*1.25 -> 6.25 | E27: =5*1.25 -> 6.25 | F27: =1*1.25 -> 1.25 | G27: =SUM(C27:F27) -> 20 | H27: =G27/25 -> 0.8 | I27: =1*$L$19 -> 1.33 | J27: =1*$L$19 -> 1.33 | K27: =1*$L$19 -> 1.33 | L27: =SUM(I27:K27) -> 3.99 | M27: =L27/20 -> 0.1995 | N27: =5*$Q$19 -> 10 | O27: =4*$Q$19 -> 8 | P27: =4*$Q$19 -> 8 | Q27: =SUM(N27:P27) -> 26 | R27: =Q27/30 -> 0.86666667 | S27: 4 | T27: 4 | U27: 4 | V27: =SUM(S27:U27) -> 12 | W27: =V27/15 -> 0.8 | X27: =2*$AA$19 -> 1.32 | Y27: =2*$AA$19 -> 1.32 | Z27: =2*$AA$19 -> 1.32 | AA27: =SUM(X27:Z27) -> 3.96 | AB27: =AA27/10 -> 0.396 | AC27: =(H27+M27+R27+W27+AB27)/5 -> 0.61243333
A28: 8 | B28: LAZ AZKA CENTER | C28: =4*1.25 -> 5 | D28: =4*1.25 -> 5 | E28: =3*1.25 -> 3.75 | F28: =3*1.25 -> 3.75 | G28: =SUM(C28:F28) -> 17.5 | H28: =G28/25 -> 0.7 | I28: =4*$L$19 -> 5.32 | J28: =3*$L$19 -> 3.99 | K28: =4*$L$19 -> 5.32 | L28: =SUM(I28:K28) -> 14.63 | M28: =L28/20 -> 0.7315 | N28: =3*$Q$19 -> 6 | O28: =4*$Q$19 -> 8 | P28: =4*$Q$19 -> 8 | Q28: =SUM(N28:P28) -> 22 | R28: =Q28/30 -> 0.73333333 | S28: 3 | T28: 4 | U28: 3 | V28: =SUM(S28:U28) -> 10 | W28: =V28/15 -> 0.66666667 | X28: =4*$AA$19 -> 2.64 | Y28: =3*$AA$19 -> 1.98 | Z28: =4*$AA$19 -> 2.64 | AA28: =SUM(X28:Z28) -> 7.26 | AB28: =AA28/10 -> 0.726 | AC28: =(H28+M28+R28+W28+AB28)/5 -> 0.7115
A29: 9 | B29: LAZNAS MPAQ BIAS | C29: =3*1.25 -> 3.75 | D29: =4*1.25 -> 5 | E29: =3*1.25 -> 3.75 | F29: =4*1.25 -> 5 | G29: =SUM(C29:F29) -> 17.5 | H29: =G29/25 -> 0.7 | I29: =3*$L$19 -> 3.99 | J29: =3*$L$19 -> 3.99 | K29: =4*$L$19 -> 5.32 | L29: =SUM(I29:K29) -> 13.3 | M29: =L29/20 -> 0.665 | N29: =4*$Q$19 -> 8 | O29: =3*$Q$19 -> 6 | P29: =3*$Q$19 -> 6 | Q29: =SUM(N29:P29) -> 20 | R29: =Q29/30 -> 0.66666667 | S29: 3 | T29: 4 | U29: 4 | V29: =SUM(S29:U29) -> 11 | W29: =V29/15 -> 0.73333333 | X29: =3*$AA$19 -> 1.98 | Y29: =4*$AA$19 -> 2.64 | Z29: =3*$AA$19 -> 1.98 | AA29: =SUM(X29:Z29) -> 6.6 | AB29: =AA29/10 -> 0.66 | AC29: =(H29+M29+R29+W29+AB29)/5 -> 0.685
A30: 10 | B30: LAZNAS YATIM MANDIRI | C30: =4*1.25 -> 5 | D30: =4*1.25 -> 5 | E30: =3*1.25 -> 3.75 | F30: =4*1.25 -> 5 | G30: =SUM(C30:F30) -> 18.75 | H30: =G30/25 -> 0.75 | I30: =4*$L$19 -> 5.32 | J30: =3*$L$19 -> 3.99 | K30: =4*$L$19 -> 5.32 | L30: =SUM(I30:K30) -> 14.63 | M30: =L30/20 -> 0.7315 | N30: =4*$Q$19 -> 8 | O30: =3*$Q$19 -> 6 | P30: =4*$Q$19 -> 8 | Q30: =SUM(N30:P30) -> 22 | R30: =Q30/30 -> 0.73333333 | S30: 4 | T30: 3 | U30: 3 | V30: =SUM(S30:U30) -> 10 | W30: =V30/15 -> 0.66666667 | X30: =4*$AA$19 -> 2.64 | Y30: =4*$AA$19 -> 2.64 | Z30: =3*$AA$19 -> 1.98 | AA30: =SUM(X30:Z30) -> 7.26 | AB30: =AA30/10 -> 0.726 | AC30: =(H30+M30+R30+W30+AB30)/5 -> 0.7215
B32: Keterangan:
B33: V1 = nilai maksimal setiap indikator adalah 6,25 sedangkan nilai minimal 1,25
B34: V2 = nilai maksimal setiap indikator adalah 6,75 sedangkan nilai minimal 1,33
B35: V3 = nilai maksimal setiap indikator adalah 10,00 sedangkan nilai minimal 3,33
B36: V4 = nilai maksimal setiap indikator adalah 5,00 sedangkan nilai minimal 1
B37: V5 = nilai maksimal setiap indikator adalah 3,33 sedangkan nilai minimal 0,66

Sheet Sheet2
C1: 25 | D1: 20 | E1: 30 | F1: 15 | G1: 10 | N1: MIN - MAX | S1: Z-SCORE | Z1: Rasio V1 | AD1: Different V1
A2: No | B2: Nama Lembaga | C2: V1 | D2: V2 | E2: V3 | F2: V4 | G2: V5 | H2: V1 | I2: V2 | J2: V3 | K2: V4 | L2: V5 | N2: V1 | O2: V2 | P2: V3 | Q2: V4 | R2: V5 | S2: V1 | T2: V2 | U2: V3 | V2: V4 | W2: V5 | Z2: mean | AA2: best | AB2: worst | AD2: mean | AE2: worst
A3: 1 | B3: LAZ Rabbani | C3: =Sheet1!G21 -> 17.5 | D3: =Sheet1!L21 -> 17.29 | E3: =Sheet1!Q21 -> 24 | F3: =Sheet1!V21 -> 9 | G3: =Sheet1!AA21 -> 5.94 | H3: =C3/$C$1 -> 0.7 | I3: =D3/$D$1 -> 0.8645 | J3: =E3/$E$1 -> 0.8 | K3: =F3/$F$1 -> 0.6 | L3: =G3/$G$1 -> 0.594 | N3: =(C3-$C$14)/($C$15-$C$14) -> 0.2 | O3: =(D3-$D$14)/($D$15-$D$14) -> 1 | P3: =(E3-$E$14)/($E$15-$E$14) -> 0.75 | Q3: =(F3-$F$14)/($F$15-$F$14) -> 0 | R3: =(G3-$G$14)/($G$15-$G$14) -> 0.5 | S3: =(C3-$C$13)/$C$16 -> -0.65465367 | T3: =(D3-$D$13)/$D$16 -> 0.92015754 | U3: =(E3-$E$13)/$E$16 -> 1.0536089 | V3: =(F3-$F$13)/$F$16 -> -0.95399809 | W3: =(G3-$G$13)/$G$16 -> -0.41758499 | Z3: =C3/$C$13 -> 0.93959732 | AA3: =C3/$C$15 -> 0.77777778 | AB3: =C3/$C$14 -> 1.0769231 | AD3: =(C3-$C$13)/$C$13 -> -0.060402685 | AE3: =(C3-$C$14)/$C$14 -> 0.076923077
A4: 2 | B4: BAZNAS | C4: =Sheet1!G22 -> 22.5 | D4: =Sheet1!L22 -> 15.96 | E4: =Sheet1!Q22 -> 18 | F4: =Sheet1!V22 -> 10 | G4: =Sheet1!AA22 -> 6.6 | H4: =C4/$C$1 -> 0.9 | I4: =D4/$D$1 -> 0.798 | J4: =E4/$E$1 -> 0.6 | K4: =F4/$F$1 -> 0.66666667 | L4: =G4/$G$1 -> 0.66 | N4: =(C4-$C$14)/($C$15-$C$14) -> 1 | O4: =(D4-$D$14)/($D$15-$D$14) -> 0.9 | P4: =(E4-$E$14)/($E$15-$E$14) -> 0 | Q4: =(F4-$F$14)/($F$15-$F$14) -> 0.33333333 | R4: =(G4-$G$14)/($G$15-$G$14) -> 0.66666667 | S4: =(C4-$C$13)/$C$16 -> 2.2549182 | T4: =(D4-$D$13)/$D$16 -> 0.57935845 | U4: =(E4-$E$13)/$E$16 -> -1.8198699 | V4: =(F4-$F$13)/$F$16 -> 0.10599979 | W4: =(G4-$G$13)/$G$16 -> 0.178965 | Z4: =C4/$C$13 -> 1.2080537 | AA4: =C4/$C$15 -> 1 | AB4: =C4/$C$14 -> 1.3846154 | AD4: =(C4-$C$13)/$C$13 -> 0.20805369 | AE4: =(C4-$C$14)/$C$14 -> 0.38461538
A5: 3 | B5: LAZISKU KB PII | C5: =Sheet1!G23 -> 16.25 | D5: =Sheet1!L23 -> 9.31 | E5: =Sheet1!Q23 -> 20 | F5: =Sheet1!V23 -> 9 | G5: =Sheet1!AA23 -> 7.26 | H5: =C5/$C$1 -> 0.65 | I5: =D5/$D$1 -> 0.4655 | J5: =E5/$E$1 -> 0.66666667 | K5: =F5/$F$1 -> 0.6 | L5: =G5/$G$1 -> 0.726 | N5: =(C5-$C$14)/($C$15-$C$14) -> 0 | O5: =(D5-$D$14)/($D$15-$D$14) -> 0.4 | P5: =(E5-$E$14)/($E$15-$E$14) -> 0.25 | Q5: =(F5-$F$14)/($F$15-$F$14) -> 0 | R5: =(G5-$G$14)/($G$15-$G$14) -> 0.83333333 | S5: =(C5-$C$13)/$C$16 -> -1.3820466 | T5: =(D5-$D$13)/$D$16 -> -1.124637 | U5: =(E5-$E$13)/$E$16 -> -0.86204366 | V5: =(F5-$F$13)/$F$16 -> -0.95399809 | W5: =(G5-$G$13)/$G$16 -> 0.77551498 | Z5: =C5/$C$13 -> 0.87248322 | AA5: =C5/$C$15 -> 0.72222222 | AB5: =C5/$C$14 -> 1 | AD5: =(C5-$C$13)/$C$13 -> -0.12751678 | AE5: =(C5-$C$14)/$C$14 -> 0
A6: 4 | B6: LAZISMU ASAHAN | C6: =Sheet1!G24 -> 18.75 | D6: =Sheet1!L24 -> 17.29 | E6: =Sheet1!Q24 -> 22 | F6: =Sheet1!V24 -> 9 | G6: =Sheet1!AA24 -> 5.94 | H6: =C6/$C$1 -> 0.75 | I6: =D6/$D$1 -> 0.8645 | J6: =E6/$E$1 -> 0.73333333 | K6: =F6/$F$1 -> 0.6 | L6: =G6/$G$1 -> 0.594 | N6: =(C6-$C$14)/($C$15-$C$14) -> 0.4 | O6: =(D6-$D$14)/($D$15-$D$14) -> 1 | P6: =(E6-$E$14)/($E$15-$E$14) -> 0.5 | Q6: =(F6-$F$14)/($F$15-$F$14) -> 0 | R6: =(G6-$G$14)/($G$15-$G$14) -> 0.5 | S6: =(C6-$C$13)/$C$16 -> 0.072739297 | T6: =(D6-$D$13)/$D$16 -> 0.92015754 | U6: =(E6-$E$13)/$E$16 -> 0.095782629 | V6: =(F6-$F$13)/$F$16 -> -0.95399809 | W6: =(G6-$G$13)/$G$16 -> -0.41758499 | Z6: =C6/$C$13 -> 1.0067114 | AA6: =C6/$C$15 -> 0.83333333 | AB6: =C6/$C$14 -> 1.1538462 | AD6: =(C6-$C$13)/$C$13 -> 0.0067114094 | AE6: =(C6-$C$14)/$C$14 -> 0.15384615
A7: 5 | B7: LAZ SOLOPEDULI | C7: =Sheet1!G25 -> 20 | D7: =Sheet1!L25 -> 15.96 | E7: =Sheet1!Q25 -> 22 | F7: =Sheet1!V25 -> 10 | G7: =Sheet1!AA25 -> 7.92 | H7: =C7/$C$1 -> 0.8 | I7: =D7/$D$1 -> 0.798 | J7: =E7/$E$1 -> 0.73333333 | K7: =F7/$F$1 -> 0.66666667 | L7: =G7/$G$1 -> 0.792 | N7: =(C7-$C$14)/($C$15-$C$14) -> 0.6 | O7: =(D7-$D$14)/($D$15-$D$14) -> 0.9 | P7: =(E7-$E$14)/($E$15-$E$14) -> 0.5 | Q7: =(F7-$F$14)/($F$15-$F$14) -> 0.33333333 | R7: =(G7-$G$14)/($G$15-$G$14) -> 1 | S7: =(C7-$C$13)/$C$16 -> 0.80013226 | T7: =(D7-$D$13)/$D$16 -> 0.57935845 | U7: =(E7-$E$13)/$E$16 -> 0.095782629 | V7: =(F7-$F$13)/$F$16 -> 0.10599979 | W7: =(G7-$G$13)/$G$16 -> 1.372065 | Z7: =C7/$C$13 -> 1.0738255 | AA7: =C7/$C$15 -> 0.88888889 | AB7: =C7/$C$14 -> 1.2307692 | AD7: =(C7-$C$13)/$C$13 -> 0.073825503 | AE7: =(C7-$C$14)/$C$14 -> 0.23076923
A8: 6 | B8: LAZISMU BINJAI | C8: =Sheet1!G26 -> 17.5 | D8: =Sheet1!L26 -> 14.63 | E8: =Sheet1!Q26 -> 22 | F8: =Sheet1!V26 -> 9 | G8: =Sheet1!AA26 -> 5.28 | H8: =C8/$C$1 -> 0.7 | I8: =D8/$D$1 -> 0.7315 | J8: =E8/$E$1 -> 0.73333333 | K8: =F8/$F$1 -> 0.6 | L8: =G8/$G$1 -> 0.528 | N8: =(C8-$C$14)/($C$15-$C$14) -> 0.2 | O8: =(D8-$D$14)/($D$15-$D$14) -> 0.8 | P8: =(E8-$E$14)/($E$15-$E$14) -> 0.5 | Q8: =(F8-$F$14)/($F$15-$F$14) -> 0 | R8: =(G8-$G$14)/($G$15-$G$14) -> 0.33333333 | S8: =(C8-$C$13)/$C$16 -> -0.65465367 | T8: =(D8-$D$13)/$D$16 -> 0.23855936 | U8: =(E8-$E$13)/$E$16 -> 0.095782629 | V8: =(F8-$F$13)/$F$16 -> -0.95399809 | W8: =(G8-$G$13)/$G$16 -> -1.014135 | Z8: =C8/$C$13 -> 0.93959732 | AA8: =C8/$C$15 -> 0.77777778 | AB8: =C8/$C$14 -> 1.0769231 | AD8: =(C8-$C$13)/$C$13 -> -0.060402685 | AE8: =(C8-$C$14)/$C$14 -> 0.076923077
A9: 7 | B9: LAZISKU SUMUT | C9: =Sheet1!G27 -> 20 | D9: =Sheet1!L27 -> 3.99 | E9: =Sheet1!Q27 -> 26 | F9: =Sheet1!V27 -> 12 | G9: =Sheet1!AA27 -> 3.96 | H9: =C9/$C$1 -> 0.8 | I9: =D9/$D$1 -> 0.1995 | J9: =E9/$E$1 -> 0.86666667 | K9: =F9/$F$1 -> 0.8 | L9: =G9/$G$1 -> 0.396 | N9: =(C9-$C$14)/($C$15-$C$14) -> 0.6 | O9: =(D9-$D$14)/($D$15-$D$14) -> 0 | P9: =(E9-$E$14)/($E$15-$E$14) -> 1 | Q9: =(F9-$F$14)/($F$15-$F$14) -> 1 | R9: =(G9-$G$14)/($G$15-$G$14) -> 0 | S9: =(C9-$C$13)/$C$16 -> 0.80013226 | T9: =(D9-$D$13)/$D$16 -> -2.4878333 | U9: =(E9-$E$13)/$E$16 -> 2.0114352 | V9: =(F9-$F$13)/$F$16 -> 2.2259955 | W9: =(G9-$G$13)/$G$16 -> -2.2072349 | Z9: =C9/$C$13 -> 1.0738255 | AA9: =C9/$C$15 -> 0.88888889 | AB9: =C9/$C$14 -> 1.2307692 | AD9: =(C9-$C$13)/$C$13 -> 0.073825503 | AE9: =(C9-$C$14)/$C$14 -> 0.23076923
A10: 8 | B10: LAZ AZKA CENTER | C10: =Sheet1!G28 -> 17.5 | D10: =Sheet1!L28 -> 14.63 | E10: =Sheet1!Q28 -> 22 | F10: =Sheet1!V28 -> 10 | G10: =Sheet1!AA28 -> 7.26 | H10: =C10/$C$1 -> 0.7 | I10: =D10/$D$1 -> 0.7315 | J10: =E10/$E$1 -> 0.73333333 | K10: =F10/$F$1 -> 0.66666667 | L10: =G10/$G$1 -> 0.726 | N10: =(C10-$C$14)/($C$15-$C$14) -> 0.2 | O10: =(D10-$D$14)/($D$15-$D$14) -> 0.8 | P10: =(E10-$E$14)/($E$15-$E$14) -> 0.5 | Q10: =(F10-$F$14)/($F$15-$F$14) -> 0.33333333 | R10: =(G10-$G$14)/($G$15-$G$14) -> 0.83333333 | S10: =(C10-$C$13)/$C$16 -> -0.65465367 | T10: =(D10-$D$13)/$D$16 -> 0.23855936 | U10: =(E10-$E$13)/$E$16 -> 0.095782629 | V10: =(F10-$F$13)/$F$16 -> 0.10599979 | W10: =(G10-$G$13)/$G$16 -> 0.77551498 | Z10: =C10/$C$13 -> 0.93959732 | AA10: =C10/$C$15 -> 0.77777778 | AB10: =C10/$C$14 -> 1.0769231 | AD10: =(C10-$C$13)/$C$13 -> -0.060402685 | AE10: =(C10-$C$14)/$C$14 -> 0.076923077
A11: 9 | B11: LAZNAS MPAQ BIAS | C11: =Sheet1!G29 -> 17.5 | D11: =Sheet1!L29 -> 13.3 | E11: =Sheet1!Q29 -> 20 | F11: =Sheet1!V29 -> 11 | G11: =Sheet1!AA29 -> 6.6 | H11: =C11/$C$1 -> 0.7 | I11: =D11/$D$1 -> 0.665 | J11: =E11/$E$1 -> 0.66666667 | K11: =F11/$F$1 -> 0.73333333 | L11: =G11/$G$1 -> 0.66 | N11: =(C11-$C$14)/($C$15-$C$14) -> 0.2 | O11: =(D11-$D$14)/($D$15-$D$14) -> 0.7 | P11: =(E11-$E$14)/($E$15-$E$14) -> 0.25 | Q11: =(F11-$F$14)/($F$15-$F$14) -> 0.66666667 | R11: =(G11-$G$14)/($G$15-$G$14) -> 0.66666667 | S11: =(C11-$C$13)/$C$16 -> -0.65465367 | T11: =(D11-$D$13)/$D$16 -> -0.10223973 | U11: =(E11-$E$13)/$E$16 -> -0.86204366 | V11: =(F11-$F$13)/$F$16 -> 1.1659977 | W11: =(G11-$G$13)/$G$16 -> 0.178965 | Z11: =C11/$C$13 -> 0.93959732 | AA11: =C11/$C$15 -> 0.77777778 | AB11: =C11/$C$14 -> 1.0769231 | AD11: =(C11-$C$13)/$C$13 -> -0.060402685 | AE11: =(C11-$C$14)/$C$14 -> 0.076923077
A12: 10 | B12: LAZNAS YATIM MANDIRI | C12: =Sheet1!G30 -> 18.75 | D12: =Sheet1!L30 -> 14.63 | E12: =Sheet1!Q30 -> 22 | F12: =Sheet1!V30 -> 10 | G12: =Sheet1!AA30 -> 7.26 | H12: =C12/$C$1 -> 0.75 | I12: =D12/$D$1 -> 0.7315 | J12: =E12/$E$1 -> 0.73333333 | K12: =F12/$F$1 -> 0.66666667 | L12: =G12/$G$1 -> 0.726 | N12: =(C12-$C$14)/($C$15-$C$14) -> 0.4 | O12: =(D12-$D$14)/($D$15-$D$14) -> 0.8 | P12: =(E12-$E$14)/($E$15-$E$14) -> 0.5 | Q12: =(F12-$F$14)/($F$15-$F$14) -> 0.33333333 | R12: =(G12-$G$14)/($G$15-$G$14) -> 0.83333333 | S12: =(C12-$C$13)/$C$16 -> 0.072739297 | T12: =(D12-$D$13)/$D$16 -> 0.23855936 | U12: =(E12-$E$13)/$E$16 -> 0.095782629 | V12: =(F12-$F$13)/$F$16 -> 0.10599979 | W12: =(G12-$G$13)/$G$16 -> 0.77551498 | Z12: =C12/$C$13 -> 1.0067114 | AA12: =C12/$C$15 -> 0.83333333 | AB12: =C12/$C$14 -> 1.1538462 | AD12: =(C12-$C$13)/$C$13 -> 0.0067114094 | AE12: =(C12-$C$14)/$C$14 -> 0.15384615
A13: Rata-rata | C13: =AVERAGE(C3:C12) -> 18.625 | D13: =AVERAGE(D3:D12) -> 13.699 | E13: =AVERAGE(E3:E12) -> 21.8 | F13: =AVERAGE(F3:F12) -> 9.9 | G13: =AVERAGE(G3:G12) -> 6.402
A14: MIN | C14: =MIN(C3:C12) -> 16.25 | D14: =MIN(D3:D12) -> 3.99 | E14: =MIN(E3:E12) -> 18 | F14: =MIN(F3:F12) -> 9 | G14: =MIN(G3:G12) -> 3.96
A15: MAX | C15: =MAX(C3:C12) -> 22.5 | D15: =MAX(D3:D12) -> 17.29 | E15: =MAX(E3:E12) -> 26 | F15: =MAX(F3:F12) -> 12 | G15: =MAX(G3:G12) -> 7.92
A16: STNDV.P | C16: =_xlfn.STDEV.P(C3:C12) -> 1.7184659 | D16: =_xlfn.STDEV.P(D3:D12) -> 3.9025926 | E16: =_xlfn.STDEV.P(E3:E12) -> 2.0880613 | F16: =_xlfn.STDEV.P(F3:F12) -> 0.94339811 | G16: =_xlfn.STDEV.P(G3:G12) -> 1.1063616

Sheet Sheet3
B2: No | C2: Nama Lembaga | D2: I1 | E2: I2 | F2: I3 | G2: I4 | H2: I5 | I2: I6 | J2: I7 | K2: I8 | L2: I9 | M2: I10 | N2: I11 | O2: I12 | P2: I13 | Q2: I14 | R2: I15 | S2: I16
B3: 1 | C3: LAZ Rabbani | D3: 4 | E3: 4 | F3: 3 | G3: 3 | H3: 4 | I3: 5 | J3: 4 | K3: 4 | L3: 4 | M3: 4 | N3: 3 | O3: 3 | P3: 3 | Q3: 4 | R3: 3 | S3: 2
B4: 2 | C4: BAZNAS | D4: 5 | E4: 5 | F4: 4 | G4: 4 | H4: 4 | I4: 5 | J4: 3 | K4: 3 | L4: 3 | M4: 3 | N4: 3 | O4: 4 | P4: 3 | Q4: 3 | R4: 3 | S4: 4
B5: 3 | C5: LAZISKU KB PII | D5: 3 | E5: 4 | F5: 3 | G5: 3 | H5: 3 | I5: 1 | J5: 3 | K5: 4 | L5: 3 | M5: 3 | N5: 3 | O5: 3 | P5: 3 | Q5: 3 | R5: 4 | S5: 4
B6: 4 | C6: LAZISMU ASAHAN | D6: 4 | E6: 5 | F6: 3 | G6: 3 | H6: 4 | I6: 5 | J6: 4 | K6: 3 | L6: 4 | M6: 4 | N6: 4 | O6: 2 | P6: 3 | Q6: 3 | R6: 4 | S6: 2
B7: 5 | C7: LAZ SOLOPEDULI | D7: 4 | E7: 4 | F7: 4 | G7: 4 | H7: 3 | I7: 5 | J7: 4 | K7: 5 | L7: 3 | M7: 3 | N7: 3 | O7: 3 | P7: 4 | Q7: 4 | R7: 3 | S7: 5
B8: 6 | C8: LAZISMU BINJAI | D8: 4 | E8: 4 | F8: 3 | G8: 3 | H8: 3 | I8: 5 | J8: 3 | K8: 3 | L8: 4 | M8: 4 | N8: 3 | O8: 3 | P8: 3 | Q8: 3 | R8: 4 | S8: 1
B9: 7 | C9: LAZISKU SUMUT | D9: 5 | E9: 5 | F9: 5 | G9: 1 | H9: 1 | I9: 1 | J9: 1 | K9: 5 | L9: 4 | M9: 4 | N9: 4 | O9: 4 | P9: 4 | Q9: 2 | R9: 2 | S9: 2
B10: 8 | C10: LAZ AZKA CENTER | D10: 4 | E10: 4 | F10: 3 | G10: 3 | H10: 4 | I10: 3 | J10: 4 | K10: 3 | L10: 4 | M10: 4 | N10: 3 | O10: 4 | P10: 3 | Q10: 4 | R10: 3 | S10: 4
B11: 9 | C11: LAZNAS MPAQ BIAS | D11: 3 | E11: 4 | F11: 3 | G11: 4 | H11: 3 | I11: 3 | J11: 4 | K11: 4 | L11: 3 | M11: 3 | N11: 3 | O11: 4 | P11: 4 | Q11: 3 | R11: 4 | S11: 3
B12: 10 | C12: LAZNAS YATIM MANDIRI | D12: 4 | E12: 4 | F12: 3 | G12: 4 | H12: 4 | I12: 3 | J12: 4 | K12: 4 | L12: 3 | M12: 4 | N12: 4 | O12: 3 | P12: 3 | Q12: 4 | R12: 4 | S12: 3
B14: Standar Deviasi | D14: =_xlfn.STDEV.P(D3:D12) -> 0.63245553 | E14: =_xlfn.STDEV.P(E3:E12) -> 0.45825757 | F14: =_xlfn.STDEV.P(F3:F12) -> 0.66332496 | G14: =_xlfn.STDEV.P(G3:G12) -> 0.87177979 | H14: =_xlfn.STDEV.P(H3:H12) -> 0.9 | I14: =_xlfn.STDEV.P(I3:I12) -> 1.5620499 | J14: =_xlfn.STDEV.P(J3:J12) -> 0.91651514 | K14: =_xlfn.STDEV.P(K3:K12) -> 0.74833148 | ... S14: =_xlfn.STDEV.P(S3:S12) -> 1.183216
B15: AVERAGE | D15: =AVERAGE(D3:D12) -> 4 | E15: =AVERAGE(E3:E12) -> 4.3 | F15: =AVERAGE(F3:F12) -> 3.4 | G15: =AVERAGE(G3:G12) -> 3.2 | H15: =AVERAGE(H3:H12) -> 3.3 | I15: =AVERAGE(I3:I12) -> 3.6 | J15: =AVERAGE(J3:J12) -> 3.4 | K15: =AVERAGE(K3:K12) -> 3.8 | ... S15: =AVERAGE(S3:S12) -> 3
B16: Z-Score
B17: No | C17: Nama Lembaga | D17: I1 | E17: I2 | F17: I3 | G17: I4 | H17: I5 | I17: I6 | J17: I7 | K17: I8 | L17: I9 | M17: I10 | N17: I11 | O17: I12 | P17: I13 | Q17: I14 | R17: I15 | S17: I16
B18: 1 | C18: LAZ Rabbani | D18: =(D3-$D$15)/$D$14 -> 0 | E18: =(E3-$E$15)/$E$14 -> -0.65465367 | F18: =(F3-$F$15)/$F$14 -> -0.60302269 | G18: =(G3-$G$15)/$G$14 -> -0.22941573 | H18: =(H3-$H$15)/$H$14 -> 0.77777778 | I18: =(I3-$I$15)/$I$14 -> 0.89625816 | J18: =(J3-$J$15)/$J$14 -> 0.65465367 | K18: =(K3-$K$15)/$K$14 -> 0.26726124 | L18: =(L3-$L$15)/$L$14 -> 1 | M18: =(M3-$M$15)/$M$14 -> 0.81649658 | N18: =(N3-$N$15)/$N$14 -> -0.65465367 | O18: =(O3-$O$15)/$O$14 -> -0.46852129 | P18: =(P3-$P$15)/$P$14 -> -0.65465367 | Q18: =(Q3-$Q$15)/$Q$14 -> 1.0932163 | R18: =(R3-$R$15)/$R$14 -> -0.60302269 | S18: =(S3-$S$15)/$S$14 -> -0.84515425
B19: 2 | C19: BAZNAS | D19: =(D4-$D$15)/$D$14 -> 1.5811388 | E19: =(E4-$E$15)/$E$14 -> 1.5275252 | F19: =(F4-$F$15)/$F$14 -> 0.90453403 | G19: =(G4-$G$15)/$G$14 -> 0.91766294 | H19: =(H4-$H$15)/$H$14 -> 0.77777778 | I19: =(I4-$I$15)/$I$14 -> 0.89625816 | J19: =(J4-$J$15)/$J$14 -> -0.43643578 | K19: =(K4-$K$15)/$K$14 -> -1.069045 | L19: =(L4-$L$15)/$L$14 -> -1 | M19: =(M4-$M$15)/$M$14 -> -1.2247449 | N19: =(N4-$N$15)/$N$14 -> -0.65465367 | O19: =(O4-$O$15)/$O$14 -> 1.0932163 | P19: =(P4-$P$15)/$P$14 -> -0.65465367 | Q19: =(Q4-$Q$15)/$Q$14 -> -0.46852129 | R19: =(R4-$R$15)/$R$14 -> -0.60302269 | S19: =(S4-$S$15)/$S$14 -> 0.84515425
B20: 3 | C20: LAZISKU KB PII | D20: =(D5-$D$15)/$D$14 -> -1.5811388 | E20: =(E5-$E$15)/$E$14 -> -0.65465367 | F20: =(F5-$F$15)/$F$14 -> -0.60302269 | G20: =(G5-$G$15)/$G$14 -> -0.22941573 | H20: =(H5-$H$15)/$H$14 -> -0.33333333 | I20: =(I5-$I$15)/$I$14 -> -1.6644794 | J20: =(J5-$J$15)/$J$14 -> -0.43643578 | K20: =(K5-$K$15)/$K$14 -> 0.26726124 | L20: =(L5-$L$15)/$L$14 -> -1 | M20: =(M5-$M$15)/$M$14 -> -1.2247449 | N20: =(N5-$N$15)/$N$14 -> -0.65465367 | O20: =(O5-$O$15)/$O$14 -> -0.46852129 | P20: =(P5-$P$15)/$P$14 -> -0.65465367 | Q20: =(Q5-$Q$15)/$Q$14 -> -0.46852129 | R20: =(R5-$R$15)/$R$14 -> 0.90453403 | S20: =(S5-$S$15)/$S$14 -> 0.84515425
B21: 4 | C21: LAZISMU ASAHAN | D21: =(D6-$D$15)/$D$14 -> 0 | E21: =(E6-$E$15)/$E$14 -> 1.5275252 | F21: =(F6-$F$15)/$F$14 -> -0.60302269 | G21: =(G6-$G$15)/$G$14 -> -0.22941573 | H21: =(H6-$H$15)/$H$14 -> 0.77777778 | I21: =(I6-$I$15)/$I$14 -> 0.89625816 | J21: =(J6-$J$15)/$J$14 -> 0.65465367 | K21: =(K6-$K$15)/$K$14 -> -1.069045 | L21: =(L6-$L$15)/$L$14 -> 1 | M21: =(M6-$M$15)/$M$14 -> 0.81649658 | N21: =(N6-$N$15)/$N$14 -> 1.5275252 | O21: =(O6-$O$15)/$O$14 -> -2.0302589 | P21: =(P6-$P$15)/$P$14 -> -0.65465367 | Q21: =(Q6-$Q$15)/$Q$14 -> -0.46852129 | R21: =(R6-$R$15)/$R$14 -> 0.90453403 | S21: =(S6-$S$15)/$S$14 -> -0.84515425
B22: 5 | C22: LAZ SOLOPEDULI | D22: =(D7-$D$15)/$D$14 -> 0 | E22: =(E7-$E$15)/$E$14 -> -0.65465367 | F22: =(F7-$F$15)/$F$14 -> 0.90453403 | G22: =(G7-$G$15)/$G$14 -> 0.91766294 | H22: =(H7-$H$15)/$H$14 -> -0.33333333 | I22: =(I7-$I$15)/$I$14 -> 0.89625816 | J22: =(J7-$J$15)/$J$14 -> 0.65465367 | K22: =(K7-$K$15)/$K$14 -> 1.6035675 | L22: =(L7-$L$15)/$L$14 -> -1 | M22: =(M7-$M$15)/$M$14 -> -1.2247449 | N22: =(N7-$N$15)/$N$14 -> -0.65465367 | O22: =(O7-$O$15)/$O$14 -> -0.46852129 | P22: =(P7-$P$15)/$P$14 -> 1.5275252 | Q22: =(Q7-$Q$15)/$Q$14 -> 1.0932163 | R22: =(R7-$R$15)/$R$14 -> -0.60302269 | S22: =(S7-$S$15)/$S$14 -> 1.6903085
B23: 6 | C23: LAZISMU BINJAI | D23: =(D8-$D$15)/$D$14 -> 0 | E23: =(E8-$E$15)/$E$14 -> -0.65465367 | F23: =(F8-$F$15)/$F$14 -> -0.60302269 | G23: =(G8-$G$15)/$G$14 -> -0.22941573 | H23: =(H8-$H$15)/$H$14 -> -0.33333333 | I23: =(I8-$I$15)/$I$14 -> 0.89625816 | J23: =(J8-$J$15)/$J$14 -> -0.43643578 | K23: =(K8-$K$15)/$K$14 -> -1.069045 | L23: =(L8-$L$15)/$L$14 -> 1 | M23: =(M8-$M$15)/$M$14 -> 0.81649658 | N23: =(N8-$N$15)/$N$14 -> -0.65465367 | O23: =(O8-$O$15)/$O$14 -> -0.46852129 | P23: =(P8-$P$15)/$P$14 -> -0.65465367 | Q23: =(Q8-$Q$15)/$Q$14 -> -0.46852129 | R23: =(R8-$R$15)/$R$14 -> 0.90453403 | S23: =(S8-$S$15)/$S$14 -> -1.6903085
B24: 7 | C24: LAZISKU SUMUT | D24: =(D9-$D$15)/$D$14 -> 1.5811388 | E24: =(E9-$E$15)/$E$14 -> 1.5275252 | F24: =(F9-$F$15)/$F$14 -> 2.4120908 | G24: =(G9-$G$15)/$G$14 -> -2.5235731 | H24: =(H9-$H$15)/$H$14 -> -2.5555556 | I24: =(I9-$I$15)/$I$14 -> -1.6644794 | J24: =(J9-$J$15)/$J$14 -> -2.6186147 | K24: =(K9-$K$15)/$K$14 -> 1.6035675 | L24: =(L9-$L$15)/$L$14 -> 1 | M24: =(M9-$M$15)/$M$14 -> 0.81649658 | N24: =(N9-$N$15)/$N$14 -> 1.5275252 | O24: =(O9-$O$15)/$O$14 -> 1.0932163 | P24: =(P9-$P$15)/$P$14 -> 1.5275252 | Q24: =(Q9-$Q$15)/$Q$14 -> -2.0302589 | R24: =(R9-$R$15)/$R$14 -> -2.1105794 | S24: =(S9-$S$15)/$S$14 -> -0.84515425
B25: 8 | C25: LAZ AZKA CENTER | D25: =(D10-$D$15)/$D$14 -> 0 | E25: =(E10-$E$15)/$E$14 -> -0.65465367 | F25: =(F10-$F$15)/$F$14 -> -0.60302269 | G25: =(G10-$G$15)/$G$14 -> -0.22941573 | H25: =(H10-$H$15)/$H$14 -> 0.77777778 | I25: =(I10-$I$15)/$I$14 -> -0.38411064 | J25: =(J10-$J$15)/$J$14 -> 0.65465367 | K25: =(K10-$K$15)/$K$14 -> -1.069045 | L25: =(L10-$L$15)/$L$14 -> 1 | M25: =(M10-$M$15)/$M$14 -> 0.81649658 | N25: =(N10-$N$15)/$N$14 -> -0.65465367 | O25: =(O10-$O$15)/$O$14 -> 1.0932163 | P25: =(P10-$P$15)/$P$14 -> -0.65465367 | Q25: =(Q10-$Q$15)/$Q$14 -> 1.0932163 | R25: =(R10-$R$15)/$R$14 -> -0.60302269 | S25: =(S10-$S$15)/$S$14 -> 0.84515425
B26: 9 | C26: LAZNAS MPAQ BIAS | D26: =(D11-$D$15)/$D$14 -> -1.5811388 | E26: =(E11-$E$15)/$E$14 -> -0.65465367 | F26: =(F11-$F$15)/$F$14 -> -0.60302269 | G26: =(G11-$G$15)/$G$14 -> 0.91766294 | H26: =(H11-$H$15)/$H$14 -> -0.33333333 | I26: =(I11-$I$15)/$I$14 -> -0.38411064 | J26: =(J11-$J$15)/$J$14 -> 0.65465367 | K26: =(K11-$K$15)/$K$14 -> 0.26726124 | L26: =(L11-$L$15)/$L$14 -> -1 | M26: =(M11-$M$15)/$M$14 -> -1.2247449 | N26: =(N11-$N$15)/$N$14 -> -0.65465367 | O26: =(O11-$O$15)/$O$14 -> 1.0932163 | P26: =(P11-$P$15)/$P$14 -> 1.5275252 | Q26: =(Q11-$Q$15)/$Q$14 -> -0.46852129 | R26: =(R11-$R$15)/$R$14 -> 0.90453403 | S26: =(S11-$S$15)/$S$14 -> 0
B27: 10 | C27: LAZNAS YATIM MANDIRI | D27: =(D12-$D$15)/$D$14 -> 0 | E27: =(E12-$E$15)/$E$14 -> -0.65465367 | F27: =(F12-$F$15)/$F$14 -> -0.60302269 | G27: =(G12-$G$15)/$G$14 -> 0.91766294 | H27: =(H12-$H$15)/$H$14 -> 0.77777778 | I27: =(I12-$I$15)/$I$14 -> -0.38411064 | J27: =(J12-$J$15)/$J$14 -> 0.65465367 | K27: =(K12-$K$15)/$K$14 -> 0.26726124 | L27: =(L12-$L$15)/$L$14 -> -1 | M27: =(M12-$M$15)/$M$14 -> 0.81649658 | N27: =(N12-$N$15)/$N$14 -> 1.5275252 | O27: =(O12-$O$15)/$O$14 -> -0.46852129 | P27: =(P12-$P$15)/$P$14 -> -0.65465367 | Q27: =(Q12-$Q$15)/$Q$14 -> 1.0932163 | R27: =(R12-$R$15)/$R$14 -> 0.90453403 | S27: =(S12-$S$15)/$S$14 -> 0
C30: Descriptive Statistics | I30: Correlation Matrixa
D31: Mean | E31: Std. Deviation | F31: N | K31: I1 | L31: I2 | M31: I3 | N31: I4 | O31: I5 | P31: I6 | Q31: I8 | R31: I9 | S31: I7 | T31: I10 | U31: I11 | V31: I12 | W31: I13 | X31: I14 | Y31: I15 | Z31: I16
C32: I1 | D32: 4 | E32: 0.667 | F32: 10 | I32: Correlation | J32: I1 | K32: 1 | L32: 0.69 | M32: 0.715 | N32: -0.363 | O32: -0.176 | P32: 0.202 | Q32: 0 | R32: 0.316 | S32: -0.518 | T32: 0.323 | U32: 0.345 | V32: 0.247 | W32: 0 | X32: -0.247 | Y32: -0.715 | Z32: -0.134
C33: I2 | D33: 4.3 | E33: 0.483 | F33: 10 | J33: I2 | K33: 0.69 | L33: 1 | M33: 0.592 | N33: -0.401 | O33: -0.218 | P33: 0.028 | Q33: -0.117 | R33: 0.218 | S33: -0.524 | T33: 0.089 | U33: 0.524 | V33: 0.034 | W33: 0.048 | X33: -0.648 | Y33: -0.395 | Z33: -0.184
C34: I3 | D34: 3.4 | E34: 0.699 | F34: 10 | J34: I3 | K34: 0.715 | L34: 0.592 | M34: 1 | N34: -0.484 | O34: -0.704 | P34: -0.232 | Q34: 0.564 | R34: 0 | S34: -0.757 | T34: -0.123 | U34: 0.263 | V34: 0.424 | W34: 0.592 | X34: -0.518 | Y34: -0.818 | Z34: 0.127
C35: I4 | D35: 3.2 | E35: 0.919 | F35: 10 | J35: I4 | K35: -0.363 | L35: -0.401 | M35: -0.484 | N35: 1 | O35: 0.688 | P35: 0.499 | Q35: -0.245 | R35: -0.688 | S35: 0.776 | T35: -0.515 | U35: -0.401 | V35: -0.107 | W35: -0.15 | X35: 0.609 | Y35: 0.553 | Z35: 0.485
C36: I5 | D36: 3.3 | E36: 0.949 | F36: 10 | J36: I5 | K36: -0.176 | L36: -0.218 | M36: -0.704 | N36: 0.688 | O36: 1 | P36: 0.583 | Q36: -0.653 | R36: -0.111 | S36: 0.824 | T36: 0.045 | U36: -0.218 | V36: -0.33 | W36: -0.703 | X36: 0.711 | Y36: 0.469 | Z36: 0.188
C37: I6 | D37: 3.6 | E37: 1.647 | F37: 10 | J37: I6 | K37: 0.202 | L37: 0.028 | M37: -0.232 | N37: 0.499 | O37: 0.583 | P37: 1 | Q37: -0.411 | R37: 0.128 | S37: 0.531 | T37: 0.052 | U37: -0.251 | V37: -0.38 | W37: -0.251 | X37: 0.42 | Y37: 0.154 | Z37: -0.108
C38: I7 | D38: 3.4 | E38: 0.966 | F38: 10 | J38: I8 | K38: 0 | L38: -0.117 | M38: 0.564 | N38: -0.245 | O38: -0.653 | P38: -0.411 | Q38: 1 | R38: -0.267 | S38: -0.321 | T38: -0.218 | U38: 0.175 | V38: 0.125 | W38: 0.758 | X38: -0.083 | Y38: -0.443 | Z38: 0.226
C39: I8 | D39: 3.8 | E39: 0.789 | F39: 10 | J39: I9 | K39: 0.316 | L39: 0.218 | M39: 0 | N39: -0.688 | O39: -0.111 | P39: 0.128 | Q39: -0.267 | R39: 1 | S39: -0.218 | T39: 0.816 | U39: 0.218 | V39: -0.156 | W39: -0.218 | X39: -0.156 | Y39: -0.302 | Z39: -0.676
C40: I9 | D40: 3.5 | E40: 0.527 | F40: 10 | J40: I7 | K40: -0.518 | L40: -0.524 | M40: -0.757 | N40: 0.776 | O40: 0.824 | P40: 0.531 | Q40: -0.321 | R40: -0.218 | S40: 1 | T40: -0.089 | U40: -0.286 | V40: -0.375 | W40: -0.286 | X40: 0.818 | Y40: 0.559 | Z40: 0.277
C41: I10 | D41: 3.6 | E41: 0.516 | F41: 10 | J41: I10 | K41: 0.323 | L41: 0.089 | M41: -0.123 | N41: -0.515 | O41: 0.045 | P41: 0.052 | Q41: -0.218 | R41: 0.816 | S41: -0.089 | T41: 1 | U41: 0.535 | V41: -0.255 | W41: -0.356 | X41: 0.064 | Y41: -0.123 | Z41: -0.69
C42: I11 | D42: 3.3 | E42: 0.483 | F42: 10 | J42: I11 | K42: 0.345 | L42: 0.524 | M42: 0.263 | N42: -0.401 | O42: -0.218 | P42: -0.251 | Q42: 0.175 | R42: 0.218 | S42: -0.286 | T42: 0.535 | U42: 1 | V42: -0.307 | W42: 0.048 | X42: -0.307 | Y42: -0.066 | Z42: -0.369
C43: I12 | D43: 3.3 | E43: 0.675 | F43: 10 | J43: I12 | K43: 0.247 | L43: 0.034 | M43: 0.424 | N43: -0.107 | O43: -0.33 | P43: -0.38 | Q43: 0.125 | R43: -0.156 | S43: -0.375 | T43: -0.255 | U43: -0.307 | V43: 1 | W43: 0.375 | X43: -0.22 | Y43: -0.518 | Z43: 0.264
C44: I13 | D44: 3.3 | E44: 0.483 | F44: 10 | J44: I13 | K44: 0 | L44: 0.048 | M44: 0.592 | N44: -0.15 | O44: -0.703 | P44: -0.251 | Q44: 0.758 | R44: -0.218 | S44: -0.286 | T44: -0.356 | U44: 0.048 | V44: 0.375 | W44: 1 | X44: -0.307 | Y44: -0.395 | Z44: 0.184
...
